BEGIN:VCALENDAR
VERSION:2.0
PRODID:-//Convention Housing//Events//EN
CALSCALE:GREGORIAN
METHOD:PUBLISH
BEGIN:VEVENT
UID:occ-eventseye-10563-2027-03@convention-housing.com
DTSTAMP:20260419T123824Z
DTSTART;VALUE=DATE:20270306
DTEND;VALUE=DATE:20270308
SUMMARY:KIDS EXPO RIGA
DESCRIPTION:KIDS EXPO RIGA is designed for children and parents\, featuring children's products and services in the Baltics. An event offering concerts\, performances\, attractions\, and educational games\, while providing adults with valuable expert advice\nOfficial site: http://www.bt1.lv/kids-expo-riga/eng\nEvent details: https://www.convention-housing.com/events/kids-expo-riga-2027-03-10563
LOCATION:Riga International Exhibition Centre - Riga\, Latvia
URL:https://www.convention-housing.com/events/kids-expo-riga-2027-03-10563
END:VEVENT
END:VCALENDAR