BEGIN:VCALENDAR
VERSION:2.0
PRODID:-//Convention Housing//Events//EN
CALSCALE:GREGORIAN
METHOD:PUBLISH
BEGIN:VEVENT
UID:occ-eventseye-34099-2027-04@convention-housing.com
DTSTAMP:20260419T123906Z
DTSTART;VALUE=DATE:20270420
DTEND;VALUE=DATE:20270423
SUMMARY:RETAIL SHOW CENTRAL ASIA
DESCRIPTION:Central Asia's B2B exhibition focusing on the entire retail industry chain\, with the core mission of "Linking retail technology\, equipment and business opportunities to empower the modernization of Central Asia's retail sector"\nOfficial site: http://www.retail-show-ca.com\nEvent details: https://www.convention-housing.com/events/retail-show-central-asia-2027-04-34099
LOCATION:Uzexpocentre - Tashkent\, Uzbekistan
URL:https://www.convention-housing.com/events/retail-show-central-asia-2027-04-34099
END:VEVENT
END:VCALENDAR