BEGIN:VCALENDAR
VERSION:2.0
PRODID:-//Convention Housing//Events//EN
CALSCALE:GREGORIAN
METHOD:PUBLISH
BEGIN:VEVENT
UID:occ-eventseye-28224-2027-04@convention-housing.com
DTSTAMP:20260419T123959Z
DTSTART;VALUE=DATE:20270417
DTEND;VALUE=DATE:20270419
SUMMARY:RETRO EXPO IN PLANO\, TX
DESCRIPTION:Fair for Vintage and Collector's items. Comics\, Toys\, Records\, Games\, Movies\, Cards\, Apparel and more...\nOfficial site: http://www.retroexpo.com\nEvent details: https://www.convention-housing.com/events/retro-expo-in-plano-tx-2027-04-28224
LOCATION:Dallas/Plano Marriott at Legacy Town Center - Plano\, TX\, USA
URL:https://www.convention-housing.com/events/retro-expo-in-plano-tx-2027-04-28224
END:VEVENT
END:VCALENDAR